BEGIN:VCALENDAR
VERSION:2.0
PRODID:-//InvisionCommunity Events 4.7.14//EN
METHOD:PUBLISH
CALSCALE:GREGORIAN
REFRESH-INTERVAL:PT15M
X-PUBLISHED-TTL:PT15M
X-WR-CALNAME:Календарь игр
NAME:Календарь игр
BEGIN:VTIMEZONE
TZID:Europe/London
TZURL:http://tzurl.org/zoneinfo/Europe/London
X-LIC-LOCATION:Europe/London
BEGIN:DAYLIGHT
TZOFFSETFROM:+0000
TZOFFSETTO:+0100
TZNAME:BST
DTSTART:20200329T020000Z
RRULE:FREQ=YEARLY;BYMONTH=3;BYDAY=-1SU
END:DAYLIGHT
BEGIN:STANDARD
TZOFFSETFROM:+0100
TZOFFSETTO:+0000
TZNAME:GMT
DTSTART:20201025T020000Z
RRULE:FREQ=YEARLY;BYMONTH=10;BYDAY=-1SU
END:STANDARD
END:VTIMEZONE
BEGIN:VEVENT
SUMMARY:Неофициальный Му
	льтиплеер  Мультиплеер По RTrainSim Четверг 1
	1.01.2020
DTSTAMP:20191229T195645Z
SEQUENCE:0
UID:195-2-9e374c596dc05ece0d27710b54f27605@forum.trainz-mp.ru
ORGANIZER;CN="saitgalin1995":admin@trainz-mp.ru
DESCRIPTION:\n	Неофициальный Мультиплее
	р По RTrainSim  По RTrainSim Четверг 11.01.2020\n
DTSTART:20200111T030000Z
END:VEVENT
END:VCALENDAR
