BEGIN:VCALENDAR
VERSION:2.0
PRODID:-//InvisionCommunity Events 4.7.14//EN
METHOD:PUBLISH
CALSCALE:GREGORIAN
REFRESH-INTERVAL:PT15M
X-PUBLISHED-TTL:PT15M
X-WR-CALNAME:Календарь игр
NAME:Календарь игр
BEGIN:VTIMEZONE
TZID:Europe/London
TZURL:http://tzurl.org/zoneinfo/Europe/London
X-LIC-LOCATION:Europe/London
BEGIN:DAYLIGHT
TZOFFSETFROM:+0000
TZOFFSETTO:+0100
TZNAME:BST
DTSTART:20200329T020000Z
RRULE:FREQ=YEARLY;BYMONTH=3;BYDAY=-1SU
END:DAYLIGHT
BEGIN:STANDARD
TZOFFSETFROM:+0100
TZOFFSETTO:+0000
TZNAME:GMT
DTSTART:20201025T020000Z
RRULE:FREQ=YEARLY;BYMONTH=10;BYDAY=-1SU
END:STANDARD
END:VTIMEZONE
BEGIN:VEVENT
SUMMARY:Пользовательский Мультиплеер по
	 Trainz 2012 09.06.2020
DTSTAMP:20200604T210746Z
SEQUENCE:0
UID:265-2-9e374c596dc05ece0d27710b54f27605@forum.trainz-mp.ru
ORGANIZER;CN="Jackson Storm":admin@trainz-mp.ru
DESCRIPTION:\n	Пользовательский
	 МП по нарядам индуст
	рия в Trainz 12 выходит на новый уров
	ень карта Грегово\n
DTSTART;VALUE=DATE:20200609
END:VEVENT
END:VCALENDAR
