BEGIN:VCALENDAR
VERSION:2.0
PRODID:-//InvisionCommunity Events 4.7.14//EN
METHOD:PUBLISH
CALSCALE:GREGORIAN
REFRESH-INTERVAL:PT15M
X-PUBLISHED-TTL:PT15M
X-WR-CALNAME:Календарь игр
NAME:Календарь игр
BEGIN:VTIMEZONE
TZID:Europe/London
TZURL:http://tzurl.org/zoneinfo/Europe/London
X-LIC-LOCATION:Europe/London
BEGIN:DAYLIGHT
TZOFFSETFROM:+0000
TZOFFSETTO:+0100
TZNAME:BST
DTSTART:20220327T020000Z
RRULE:FREQ=YEARLY;BYMONTH=3;BYDAY=-1SU
END:DAYLIGHT
BEGIN:STANDARD
TZOFFSETFROM:+0100
TZOFFSETTO:+0000
TZNAME:GMT
DTSTART:20221030T020000Z
RRULE:FREQ=YEARLY;BYMONTH=10;BYDAY=-1SU
END:STANDARD
END:VTIMEZONE
BEGIN:VEVENT
SUMMARY:Неофициальный мультиплеер | 16.0
	3.2022 |Среда
DTSTAMP:20220314T230237Z
SEQUENCE:0
UID:375-2-9e374c596dc05ece0d27710b54f27605@forum.trainz-mp.ru
ORGANIZER;CN="Lord9":admin@trainz-mp.ru
DESCRIPTION:\n	Время сбор
	а в канале (Проверяем 
	проверку запуска карты): 13:30 [МС
	К]\n\n	Время старта: 14:03[МСК]\n\n\n\n
		 \n\n\n\n	\n\n	Программа радиосвязи:
	 TeamSpeak 3 (TS3) - инструкция по ус
	тановке\n\n	Адрес сервера: ts3.trainz-mp.ru
	\n\n\n\n	 \n\n\n\n	Примечание:\n\
	n\n\n	При выборе л
	окомотива см
	отрите не занят ли 
	он\, Занятые локомот
	ивы вычеркиваются из спис
	ка!\n\n\n\n	Примечание №2:  \n
	\n\n\n	Организатор и создатель сесс
	ии next366\n\n\n\n	 \n\n\n\n	Примечание:\n\
	n\n\n	\n		Всем ДС﻿П
	 и ДНЦ в соверш
	енстве необходимо
	 уметь обращаться с сигнализацие
	й sU и с пультом ДСП\;\n	\n\n\n\n	 \n\n\n\n	
	Зоны дежурства ДСП:\n\n\n\n	\n		\n			ДСП
	 Адлер - Эшера \n		\n\n		\n			ДСП Сухуми
	 - Ткуарчал: \n		\n	\n	\n		ДНЦ: next366\n	\n\n\n\
	n	 \n\n\n\n	Для хоро
	шей игры и качественного п
	ропуска поездов необходимо:\n\n\n\n
		\n		На 1 - 10 машинистов - 1 ДСП\;\n	\n	\n
			на 11 - 15 машинистов 2 ДСП\;\n	\n
		\n		на 16 и более машинистов 3 ДСП + ДНЦ.
	\n	\n\n\n\n	 \n\n\n\n	\n		Необходимая инфо
	рмация и документы:\n	\n\
	n\n\n	\n		Инструкция
	 по работе ТЧМ и Д
	СП: обязательно оз
	накомиться c данно
	й инструкцией!\n	
	\n	\n		Номера п
	оездов при
	сваиваются ДСП/ДНЦ 
	непосредственно после нач
	ала мультиплеера. \n	\n\n\n\n	 \n\n\
	n\n	Форма за﻿явки для ТЧМ﻿:\n\n\n\n	
	\n		1. Ваш ник на Auran.com (ник в 
	игре)\; \n\n		2.  Локомотив (
	станция приписки)\;
	\n\n		3. С устрой
	ством и принципом 
	работы выбранного 
	мною локомотива озна
	комлен\; \n\n		4. С и
	нструкцией по рабо
	те ТЧМ и ДСП оз
	накомлен и об
	язуюсь соблюдать. ﻿\
	n\n		5. Работоспо﻿собность карты
	 проверил.﻿﻿\n	\n\n	\n		 \n	\n\n	\n		
	Форма заявки для ДСП/ДНЦ﻿:﻿\n	\n
	\n	\n		1. Ваш ник на Auran.com (ник в 
	игре)\;\n\n		2. Желаемый уча
	сток дежурства\;\n\n	
		3. С инструкцией п
	о работе ТЧМ и ДСП о
	знакомлен и обяз
	уюсь соблюдать.\n\n		4.
	 Со схемами выб
	ранног﻿о 
	участка оз
	накомлен.\n\n		5. 
	Работоспособность к
	арты ﻿пров﻿ери﻿л.﻿﻿﻿﻿﻿\n	\n
	\n	\n		 \n	\n\n	\n		Список локомотивов\n	\n\n
		\n		 \n	\n\n	\n		Ткууарчал: ЕР2Р-7145\,ЧС7-19
	0\,ЧМэ3-1741\,2ТЭ10М-2018﻿﻿﻿\,ВЛ8-1536.\n\n	
		Очамчира: 2ТЭ10м-к-2672\,ЭР2Р-7145.\n\n	
		Дранда: ЧМэ3-4544.\n\n		Сухуум: ЧМЭ3-454
	4\,2ТЭ10В-4036\,2ТЭ 2055﻿﻿﻿\, ЧС7-045 \,ЧС7-278\,ВЛ
	8-1526\,ВЛ11-45\,ЕР2Р-7050\,ЕД4М-0050\n	\n\n	\n		Ешера
	 ЧМэ3-1858.\n\n		Бзымта: 2ТЭ121-023\,ЧМэ3-4544\,
	2ТЭ10м-0411.\n\n		Гагра: ЧМэ3-4544.\n\n		Ца
	ндприпшь: ЧМэ3-6063.\n\n		Адлер: ВЛ8-1014\,Вл
	11-1147\,ЧС2-627\,ЧС2-﻿877\,ЭР2К-901юность\,Е
	Р2К-9﻿25\, 3ТЭ10МК-1096\, ЧМэЗ4544\, 3ТЭ10МКО-2672\,
	ЧС7-110\n	\n\n
DTSTART;VALUE=DATE:20220316
END:VEVENT
END:VCALENDAR
