BEGIN:VCALENDAR
VERSION:2.0
PRODID:-//InvisionCommunity Events 4.7.14//EN
METHOD:PUBLISH
CALSCALE:GREGORIAN
REFRESH-INTERVAL:PT15M
X-PUBLISHED-TTL:PT15M
X-WR-CALNAME:Календарь игр
NAME:Календарь игр
BEGIN:VTIMEZONE
TZID:Europe/London
TZURL:http://tzurl.org/zoneinfo/Europe/London
X-LIC-LOCATION:Europe/London
BEGIN:DAYLIGHT
TZOFFSETFROM:+0000
TZOFFSETTO:+0100
TZNAME:BST
DTSTART:20220327T020000Z
RRULE:FREQ=YEARLY;BYMONTH=3;BYDAY=-1SU
END:DAYLIGHT
BEGIN:STANDARD
TZOFFSETFROM:+0100
TZOFFSETTO:+0000
TZNAME:GMT
DTSTART:20221030T020000Z
RRULE:FREQ=YEARLY;BYMONTH=10;BYDAY=-1SU
END:STANDARD
END:VTIMEZONE
BEGIN:VEVENT
SUMMARY:Неофициальный мул
	ьтиплеер | 01.04.2022 |Пятница  Карта: Абхаз
	ия  TRAINZ 19
DTSTAMP:20220327T095703Z
SEQUENCE:0
UID:378-2-9e374c596dc05ece0d27710b54f27605@forum.trainz-mp.ru
ORGANIZER;CN="Lord9":admin@trainz-mp.ru
DESCRIPTION:\n	Неофициальный мультипле
	ер | 01.04.2022 |Пятница\n\n\n\n	\n		Карта: Абха
	зия  TRAINZ 19\n	\n\n	\n		\n	\n\n	\n		Маршрут - &lt\;KUID2:334
	133:100025:15&gt\; | Сессия - &lt\;KUID2:334133:100026:17&gt\;\n	\
	n\n	\n		 \n	\n\n	\n		Время с
	бора в канале (Проверяе
	м проверку запуска карты): 16:00
	 [МСК]\n\n		Время старта: 16:30 [МСК]\n	\n\n	\n
			 \n	\n\n	\n		\n\n		Программа радиосвязи
	: TeamSpeak 3 (TS3) - инструкция по у
	становке\n\n		Адрес сервера: ts3.trainz-mp.ru\n	
	\n\n	\n		 \n	\n\n	\n		Примечание:\n	\
	n\n	\n		При выборе 
	локомотива с
	мотрите не занят л
	и он\, Занятые локомо
	тивы вычеркиваются из списка!\
	n	\n\n	\n		Примечание №2:  \n	\n
	\n	\n		Организатор и создатель сессии L
	ord9\n	\n\n	\n		 \n	\n\n	\n		Примечание:\n	\n\n	\
	n		\n			Всем ДС﻿П
	 и ДНЦ в соверш
	енстве необходимо
	 уметь обращаться с сигнализацие
	й sU и с пультом ДСП\;\n		\n	\n\n	\n		 \n	\n
	\n	\n		Зоны дежурства ДСП:\n	\n\n	\n		\n			
	\n				ДСП Адлер - Эшера \n			\n\n			\n			
		ДСП Сухуми - Ткуарчал: \n			\n		\n		\n			ДНЦ: Lord
	9\n		\n	\n\n	\n		 \n	\n\n	\n		Для х
	орошей игры и качественн
	ого пропуска поездов необходимо:\n
		\n\n	\n		\n			На 1 - 10 машинистов - 1 ДСП\;\n		\n	
		\n			на 11 - 15 машинистов 2 ДСП\;\n		\
	n		\n			на 16 и более машинистов 3 ДСП + ДНЦ.\n	
		\n	\n\n	\n		 \n	\n\n	\n		\n			Необходимая
	 информация и документы:\n		\n
		\n\n	\n		\n			Инструкция
	 по работе ТЧМ и Д
	СП: обязательно ознак
	омиться c данной инст
	рукцией!\n		\n		\n		
		Номера п
	оездов при
	сваиваются ДСП/ДНЦ 
	непосредственно после начала мул
	ьтиплеера. \n		\n	\n\n	\n		 \n	\n\n	\n		Фо
	рма за﻿явки для ТЧМ﻿:\n	\n\n	\n		\n		
		1. Ваш ник на Auran.com (ник в и
	гре)\; \n\n			2.  Локомотив (ст
	анция приписки)\;\n\
	n			3. С устрой
	ством и принципом 
	работы выбранного м
	ною локомотива ознако
	млен\; \n\n			4. С инс
	трукцией по работе 
	ТЧМ и ДСП ознако
	млен и обязую
	сь соблюдать. ﻿\n\n			5.
	 Работоспо﻿собность карты провер
	ил.﻿﻿\n		\n\n		\n			 \n		\n\n		\n			Форма з
	аявки для ДСП/ДНЦ﻿:﻿\n		\n\n		\n			1. 
	Ваш ник на Auran.com (ник в игре
	)\;\n\n			2. Желаемый участок 
	дежурства\;\n\n			3. 
	С инструкцией по ра
	боте ТЧМ и ДСП ознак
	омлен и обязуюсь 
	соблюдать.\n\n			4. Со сх
	емами выбранн
	ог﻿о уч
	астка ознако
	млен.\n\n			5. Работос
	пособность карты ﻿пров﻿ери﻿л.﻿﻿﻿
	﻿﻿\n		\n\n		\n			 \n		\n\n		\n			 \n		\n\n		\n			Сп
	исок локомотивов:\n		\n\n		\n			Адлер:2ТЭ10-
	М-К-2672\,3ТЭ10М-К-1096\,2ТЭ10У-0027\,ЭР9п-223\,ЭР22-4
	9\,ЭР2Р-7050\,ЭР2К-925\,ЧС2-776\,ЧС7-278\,ЧС2-760\,ВЛ8м
	-1004\,ВЛ11м-045\,ВЛ10-1628\,ТЭП70-0273\,ТЭМ2У-9392.\n		\n\n		
	\n			\n\n			Гагра:ЧМЭЗ-3762\n		\n\n		\n			\n\n			Бзыпт
	а:2ТЭ10М-2173\,2ТЭ10М-2018.\n		\n\n		\n			\n\n			Ешера:2
	ТЭ10М-2255\,2ТЭ10У-0027.\n		\n\n		\n			\n\n			Сухум:ЧС7-
	190\,ЭР2К-901\,ЭР2-1026\,ЧС7-140\,ЭД4М-0050\,2ТЭ10В-4036\
	,2ТЭ121-021\,ВЛ10-504\,ВЛ10-615\,ЧМЭЗ-1104\,2ЭС4К-057\,2ЭС7
	-1733.\n		\n\n		\n			\n\n			Дранда:ТЭМ7-0285.\n		\n\n		\n	
			\n\n			Адзюбжа:ЭР2К-1073.\n		\n\n		\n			\n\n			Оча
	мчыра:2ТЭ121-021\,2ТЭ121-023\,ЧМЭ5-0008\,ЭД4М-0357.\n		\n\
	n		\n			\n\n			Туркучал:2ТЭ10М-2255\,2ТЭ10У-0027\,ВЛ
	11м-045\,ВЛ8м-1526\,ЧС7-190.\n		\n	\n\n
DTSTART;VALUE=DATE:20220401
END:VEVENT
END:VCALENDAR
