BEGIN:VCALENDAR
VERSION:2.0
PRODID:-//InvisionCommunity Events 4.7.14//EN
METHOD:PUBLISH
CALSCALE:GREGORIAN
REFRESH-INTERVAL:PT15M
X-PUBLISHED-TTL:PT15M
X-WR-CALNAME:Календарь игр
NAME:Календарь игр
BEGIN:VTIMEZONE
TZID:Europe/London
TZURL:http://tzurl.org/zoneinfo/Europe/London
X-LIC-LOCATION:Europe/London
BEGIN:DAYLIGHT
TZOFFSETFROM:+0000
TZOFFSETTO:+0100
TZNAME:BST
DTSTART:20220327T020000Z
RRULE:FREQ=YEARLY;BYMONTH=3;BYDAY=-1SU
END:DAYLIGHT
BEGIN:STANDARD
TZOFFSETFROM:+0100
TZOFFSETTO:+0000
TZNAME:GMT
DTSTART:20221030T020000Z
RRULE:FREQ=YEARLY;BYMONTH=10;BYDAY=-1SU
END:STANDARD
END:VTIMEZONE
BEGIN:VEVENT
SUMMARY:Тестовый мультиплеер по карте Ki
	ev move ver1 09.07.2022 г. в 13:00 МСК в Субботу
DTSTAMP:20220706T183147Z
SEQUENCE:0
UID:382-2-9e374c596dc05ece0d27710b54f27605@forum.trainz-mp.ru
ORGANIZER;CN="Lord9":admin@trainz-mp.ru
DESCRIPTION:\n	Пользовательски
	й (тестовый) мультиплеер | 09.07.202
	2 | Среда\n\n\n\n	\n		Карта:   Kiev move ver1 multipleer T
	RAINZ 19\n	\n\n	\n		\n	\n\n	\n		Маршрут -  &lt\;KUID2:334133:8305
	59:6&gt\;| Сессия - &lt\;KUID2:334133:100086:6&gt\;\n	\n\n	\n		 \
	n	\n\n	\n		Время сбора в 
	канале (Проверяем пров
	ерку запуска карты): 13:00 [МСК]\n\n		Вре
	мя старта: 14:00 [МСК]\n	\n\n
DTSTART;VALUE=DATE:20220709
END:VEVENT
END:VCALENDAR
