BEGIN:VCALENDAR
VERSION:2.0
PRODID:-//InvisionCommunity Events 4.7.14//EN
METHOD:PUBLISH
CALSCALE:GREGORIAN
REFRESH-INTERVAL:PT15M
X-PUBLISHED-TTL:PT15M
X-WR-CALNAME:Календарь игр
NAME:Календарь игр
BEGIN:VTIMEZONE
TZID:Europe/London
TZURL:http://tzurl.org/zoneinfo/Europe/London
X-LIC-LOCATION:Europe/London
BEGIN:DAYLIGHT
TZOFFSETFROM:+0000
TZOFFSETTO:+0100
TZNAME:BST
DTSTART:20240331T020000Z
RRULE:FREQ=YEARLY;BYMONTH=3;BYDAY=-1SU
END:DAYLIGHT
BEGIN:STANDARD
TZOFFSETFROM:+0100
TZOFFSETTO:+0000
TZNAME:GMT
DTSTART:20241027T020000Z
RRULE:FREQ=YEARLY;BYMONTH=10;BYDAY=-1SU
END:STANDARD
END:VTIMEZONE
BEGIN:VEVENT
SUMMARY:Неофициальный мульти
	плеер | 7.02.2024 |среда | Карта: Столбцы - Б
	алезино - Солнечная
DTSTAMP:20240203T204015Z
SEQUENCE:0
UID:390-2-9e374c596dc05ece0d27710b54f27605@forum.trainz-mp.ru
ORGANIZER;CN="next77":admin@trainz-mp.ru
DESCRIPTION:\n	Неофициальный мультиплее
	р | 07.02.2024 | Среда\n\n\n\n	\n
			Карта: Столбцы - Балезино - Солне
	чная   TRAINZ 22\n	\n\n	\n		Маршрут -&lt\;kuid2:570553:1
	00058:21&gt\; | Сессия - &lt\;kuid2:570553:100059:24&gt\;\n	\n\n
		\n		 \n	\n\n	\n		Время сбо
	ра в канале (Проверяем 
	проверку запуска карты): 19:00 [М
	СК]\n\n		Время старта: 19:30 [МСК]\n	\n\n	\n		
	 \n	\n\n	\n		\n\n		Программа радиосвязи
	: TeamSpeak 3 (TS3) - инструкция по у
	становке\n\n		Адрес сервера: ts3.trainz-mp.ru\n	
	\n\n	\n		 \n	\n\n	\n		Примечание:\n	\
	n\n	\n		При выборе 
	локомотива с
	мотрите не занят л
	и он\, Занятые локомо
	тивы вычеркиваются из списка!\
	n	\n\n	\n		Примечание №2:  \n	\n
	\n	\n		Организатор и создатель сессии Trainzt
	emik\n	\n\n	\n		 \n	\n\n	\n		Примечание:\n	\n\n	\
	n		\n			Всем ДС﻿П
	 и ДНЦ в соверш
	енстве необходимо
	 уметь обращаться с сигнализацие
	й sU и с пультом ДСП\;\n		\n	\n\n	\n		 \n	\n
	\n	\n		Зоны дежурства ДСП:\n	\n
	\n	\n		\n			ДСП Столбцы-Мосты-Б
	орисполь: Свободно\n		\n		\
	n			ДСП Мосты-Горный-Бло
	чный: Свободно\n		\n		\n	
			ДСП Крутоборка-Лель
	ма-Лихачёво: Свободно\n		\n
			\n			ДСП Сомово-Балесин
	о:  Бесплатно\n		\n		\
	n			ДСП Чистоозёрск-Ко
	лосово-Солнечная:
	 Свободно\n		\n		\n			На
	циональный комитет Демократическ
	ой партии: \n		\n	\n\n	\n		 \n	\n\n
		\n		Для хорошей игры
	 и качественного пропуска поезд
	ов необходимо:\n	\n\n	\n		\n			На 1 - 10 машини
	стов - 1 ДСП\;\n		\n		\n			на 11 - 15 машинистов 
	2 ДСП\;\n		\n		\n			на 16 и более машинистов
	 3 ДСП + ДНЦ.\n		\n	\n\n	\n		 \n	\n\n	\n		
	\n			Необходимая информация и д
	окументы:\n		\n	\n\n	\n		\n		
		Инструкция 
	по работе ТЧМ и ДС
	П: обязательно ознако
	миться c данной инстру
	кцией!\n		\n		\n			Н
	омера по
	ездов присв
	аиваются ДСП/ДНЦ непо
	средственно после начала мультипл
	еера. \n		\n	\n\n	\n		 \n	\n\n	\n		Форма за﻿явк
	и для ТЧМ﻿:\n	\n\n	\n		\n			1. Ваш ник на Aura
	n.com (ник в игре)\; \n\n			2.  Локом
	отив (станция приписк
	и)\;\n\n			3. С устро
	йством и принципо
	м работы выбранного
	 мною локомотива ознак
	омлен\; \n\n			4. С ин
	струкцией по работе
	 ТЧМ и ДСП ознако
	млен и обязую
	сь соблюдать. ﻿\n\n			5.
	 Работоспо﻿собность карты провер
	ил.﻿﻿\n		\n\n		\n			 \n		\n\n		\n			Форма з
	аявки для ДСП/ДНЦ﻿:﻿\n		\n\n		\n			1. 
	Ваш ник на Auran.com (ник в игре
	)\;\n\n			2. Желаемый участок 
	дежурства\;\n\n			3. 
	С инструкцией по ра
	боте ТЧМ и ДСП ознак
	омлен и обязуюсь 
	соблюдать.\n\n			4. Со сх
	емами выбранн
	ог﻿о уч
	астка ознако
	млен.\n\n			5. Работос
	пособность карты ﻿пров﻿ер
	и﻿л.﻿﻿﻿﻿﻿\n		\n\n		\n			 \n		\n\n		\n			Сп
	исок локомотивов\n		\n\n		\n			\n				Мосты:\n\n	
				ВЛ65-015\, ВЛ80Р-1793\, ЧМЭ3-1104\, 2ТЭ10В-4481\, 
	ЧС2Т-999\, ЧС8-063\, ВЛ60ПК-1836.\n\n				Балезино:\
	n\n				ЭР22-59\, 2ТЭ116-1673\, ЧС8-065\, ВЛ80Р-1626\, ВЛ80
	СМ-3003\, ВЛ65-012\, ТГМ6А-1444\, ЧМЭ3т-5840\, ЧС4Т-456\
	, М62-1745\, 2ТЭ109-﻿﻿017\, 2ТЭ10М-3141\, ВЛ60К-0001
	\, ВЛ60ПК-1012\, ЧС2Т-972\, ЭР2К-901.\n\n				Лихачёв
	о:\n\n				ТГМ6А-1698\, М62-1867\, ТЭП70БС-297\, ТЭМ2У-88
	32\, 2ТЭ116-1726\, 2ТЭ10У-0027\, 3ТЭ10МК-1096.\n\n				
	Колосово:\n\n				ТЭ114-0066\, ЧМЭ5-0008\, М62-1731\, 
	2ТЭП60-0063\, ДМ62-1796\, 2ТЭ10М-2173\, М62-1733\, 2ТЭ121
	-023\, ТЭП60-1036.\n\n				Крутоборка:\n			\n\n			\n			
		2ТЕ10М-0462\,  2М62У-0387\, ТЭП60-1029 \, ВЛ80С-705\, ЧС8
	-042.\n			\n\n			\n				Солнечная:\n\n				3ТЭ10МКО-2672\
	, ТЭМ7-0285\, ТЭ114-0059\, ДМ62-1804.\n\n				Столбцы:\n\
	n				ЧМЭ3-1680\, ЭР2К-925\, ЧС200-005.\n			\n\n			\n				Б
	орисполь:\n\n				2ТЭ10В-4036\, ЧМЭ3-5817.\n			\n\
	n			\n				Чистоозёрск:\n\n				ДГКУ-4968.\n			\n		\n	\n\n
DTSTART;VALUE=DATE:20240207
END:VEVENT
END:VCALENDAR
